BEGIN:VCALENDAR
PRODID:-//event//iCal4j 1.0//EN
CALSCALE:GREGORIAN
BEGIN:VEVENT
DTSTAMP:20260423T162024Z
DTSTART:20260324T150000Z
DTEND:20260324T163000Z
SUMMARY:payne-county-stillwater-impact-meeting
LOCATION:CareerTech 1500 W. 7th Ave. Stillwater OK 74074
END:VEVENT
END:VCALENDAR
