BEGIN:VCALENDAR
PRODID:-//event//iCal4j 1.0//EN
CALSCALE:GREGORIAN
BEGIN:VEVENT
DTSTAMP:20260421T133730Z
DTSTART:20241112T160000Z
DTEND:20241112T180000Z
SUMMARY:november-12-2024-bot-board-meeting
LOCATION:Oklahoma Department of Public Safety Complex  3600 N. Martin Lut
 her King Avenue Building No. 9\, W.C. (Sarg) Smith Classroom Oklahoma Ci
 ty Oklahoma 73111
END:VEVENT
END:VCALENDAR
