BEGIN:VCALENDAR
PRODID:-//event//iCal4j 1.0//EN
CALSCALE:GREGORIAN
BEGIN:VEVENT
DTSTAMP:20260421T065947Z
DTSTART:20231114T160000Z
DTEND:20231114T180000Z
SUMMARY:november-14-2023-bot-board-meeting
LOCATION:Oklahoma Department of Public Safety Complex  3600 N. Martin Lut
 her King Avenue Building No. 9\, W.C. (Sarg) Smith Classroom Oklahoma Ci
 ty Oklahoma 73111
END:VEVENT
END:VCALENDAR
