BEGIN:VCALENDAR
PRODID:-//event//iCal4j 1.0//EN
CALSCALE:GREGORIAN
BEGIN:VEVENT
DTSTAMP:20260421T101607Z
DTSTART:20230815T150000Z
DTEND:20230815T170000Z
SUMMARY:august-15-2023-bot-board-meeting
LOCATION: [CANCELED]  [CANCELED]  [CANCELED]  [CANCELED]  [CANCELED]
END:VEVENT
END:VCALENDAR
